BEGIN:VCALENDAR
VERSION:2.0
PRODID:-//hacksw/handcal//NONSGML v1.0//EN
BEGIN:VEVENT
SUMMARY:Entrainement R2 / R1
UID:a77f44d5-b5a6-4262-8892-76e01302ea40
DTSTART:20260312T180000Z
DTEND:20260312T210000Z
LOCATION:Localisation   
CATEGORIES:Sportif
STATUS:
URL;VALUE=URI:https://razorbackspertuis.sportsregions.fr/evenements/2026/03/12/entrainement-r2-r1-2423931
END:VEVENT
END:VCALENDAR
