BEGIN:VCALENDAR
VERSION:2.0
PRODID:-//hacksw/handcal//NONSGML v1.0//EN
BEGIN:VEVENT
SUMMARY:Buvette ANNULEE
UID:b8bebf0d-1ed7-4b95-9b33-b41e1a9c532c
DTSTART:20260322T073000Z
DTEND:20260322T230000Z
LOCATION:PERTUIS BASEBALL CLUB RAZORBACKS 9005F Rte d'Aix 84120 PERTUIS
CATEGORIES:Festif
STATUS:
DESCRIPTION:<p>Buvette pour championnat R1</p>
URL;VALUE=URI:https://razorbackspertuis.sportsregions.fr/evenements/2026/03/22/buvette-annulee-2393435
END:VEVENT
END:VCALENDAR
