BEGIN:VCALENDAR
VERSION:2.0
PRODID:-//hacksw/handcal//NONSGML v1.0//EN
BEGIN:VEVENT
SUMMARY:Championnat R1 RAZORBACKS vs GAPEAU REPORTE
UID:64c18d0d-b2a2-4a4b-91af-7fffd02e7f45
DTSTART:20260322T100000Z
DTEND:20260322T160000Z
LOCATION:PERTUIS BASEBALL CLUB RAZORBACKS 9005F Rte d'Aix 84120 PERTUIS
CATEGORIES:Sportif
STATUS:
DESCRIPTION:<p>Matchs R12635 / R12636</p>
URL;VALUE=URI:https://razorbackspertuis.sportsregions.fr/evenements/2026/03/22/championnat-r1-razorbacks-vs-gapeau-reporte-2376318
END:VEVENT
END:VCALENDAR
