BEGIN:VCALENDAR
VERSION:2.0
PRODID:-//hacksw/handcal//NONSGML v1.0//EN
BEGIN:VEVENT
SUMMARY:Entrainement 9U
UID:98019a78-d75c-4a50-b486-beb3f2e9df5b
DTSTART:20260325T150000Z
DTEND:20260325T170000Z
LOCATION:Localisation   
CATEGORIES:Entrainement
STATUS:
URL;VALUE=URI:https://razorbackspertuis.sportsregions.fr/evenements/2026/03/25/entrainement-9u-2431586
END:VEVENT
END:VCALENDAR
