BEGIN:VCALENDAR
VERSION:2.0
PRODID:-//hacksw/handcal//NONSGML v1.0//EN
BEGIN:VEVENT
SUMMARY:Entrainement 9U
UID:2cf47537-792b-4429-8a72-c0916fc2ef5e
DTSTART:20260401T140000Z
DTEND:20260401T160000Z
LOCATION:PERTUIS BASEBALL CLUB RAZORBACKS 9005F Rte d'Aix 84120 PERTUIS
CATEGORIES:Entrainement
STATUS:
URL;VALUE=URI:https://razorbackspertuis.sportsregions.fr/evenements/2026/04/01/entrainement-9u-2435535
END:VEVENT
END:VCALENDAR
