BEGIN:VCALENDAR
VERSION:2.0
PRODID:-//hacksw/handcal//NONSGML v1.0//EN
BEGIN:VEVENT
SUMMARY:Entrainement 12U ANNULE
UID:8b15d2e8-7632-45ed-bb4d-739b9f0f064d
DTSTART:20260411T123000Z
DTEND:20260411T160000Z
LOCATION:PERTUIS BASEBALL CLUB RAZORBACKS 9005F Rte d'Aix 84120 PERTUIS
CATEGORIES:Entrainement
STATUS:
URL;VALUE=URI:https://razorbackspertuis.sportsregions.fr/evenements/2026/04/11/entrainement-12u-annule-2394751
END:VEVENT
END:VCALENDAR
