BEGIN:VCALENDAR
VERSION:2.0
PRODID:-//hacksw/handcal//NONSGML v1.0//EN
BEGIN:VEVENT
SUMMARY:Entrainement 15U ANNULE
UID:33ab2072-3d11-443c-ab88-5242e89aad0a
DTSTART:20260411T123000Z
DTEND:20260411T160000Z
LOCATION:Localisation   
CATEGORIES:Entrainement
STATUS:
URL;VALUE=URI:https://razorbackspertuis.sportsregions.fr/evenements/2026/04/11/entrainement-15u-annule-2394828
END:VEVENT
END:VCALENDAR
