BEGIN:VCALENDAR
VERSION:2.0
PRODID:-//hacksw/handcal//NONSGML v1.0//EN
BEGIN:VEVENT
SUMMARY:Entrainement 9U ANNULE
UID:174901e6-3552-41c0-87ba-f2f9d78cad81
DTSTART:20260411T080000Z
DTEND:20260411T100000Z
LOCATION:Localisation   
CATEGORIES:Entrainement
STATUS:
URL;VALUE=URI:https://razorbackspertuis.sportsregions.fr/evenements/2026/04/11/entrainement-9u-annule-2367630
END:VEVENT
END:VCALENDAR
