BEGIN:VCALENDAR
VERSION:2.0
PRODID:-//hacksw/handcal//NONSGML v1.0//EN
BEGIN:VEVENT
SUMMARY:Buvette
UID:dfb61ed1-1333-4652-9587-f99c6f51ce9d
DTSTART:20260621T070000Z
DTEND:20260621T220000Z
LOCATION:PERTUIS BASEBALL CLUB RAZORBACKS 9005F Rte d'Aix 84120 PERTUIS
CATEGORIES:Festif
STATUS:
URL;VALUE=URI:https://razorbackspertuis.sportsregions.fr/evenements/2026/06/21/buvette-2433785
END:VEVENT
END:VCALENDAR
