BEGIN:VCALENDAR
VERSION:2.0
PRODID:-//hacksw/handcal//NONSGML v1.0//EN
BEGIN:VEVENT
SUMMARY:Championnat R1 RAZORBACKS vs GAPEAU report
UID:94b39410-5a0a-4bd0-985c-9fee74c60771
DTSTART:20260621T090000Z
DTEND:20260621T150000Z
LOCATION:Localisation   
CATEGORIES:Sportif
STATUS:
DESCRIPTION:Matchs R12635/R12636
URL;VALUE=URI:https://razorbackspertuis.sportsregions.fr/evenements/2026/06/21/championnat-r1-razorbacks-vs-gapeau-report-2433069
END:VEVENT
END:VCALENDAR
