BEGIN:VCALENDAR
VERSION:2.0
PRODID:-//hacksw/handcal//NONSGML v1.0//EN
BEGIN:VEVENT
SUMMARY:Fete de fin d'annee sportive
UID:49e8d21e-cc62-4980-839f-b0d91a0e393b
DTSTART:20260628T060000Z
DTEND:20260628T170000Z
LOCATION:Localisation   
CATEGORIES:Festif
STATUS:
URL;VALUE=URI:https://razorbackspertuis.sportsregions.fr/evenements/2026/06/28/fete-de-fin-dannee-sportive-2440971
END:VEVENT
END:VCALENDAR
